BEGIN:VCALENDAR
VERSION:2.0
PRODID:-//Newark Human Resources - ECPv6.7.0//NONSGML v1.0//EN
CALSCALE:GREGORIAN
METHOD:PUBLISH
X-WR-CALNAME:Newark Human Resources
X-ORIGINAL-URL:https://hr.newark.rutgers.edu
X-WR-CALDESC:Events for Newark Human Resources
REFRESH-INTERVAL;VALUE=DURATION:PT1H
X-Robots-Tag:noindex
X-PUBLISHED-TTL:PT1H
BEGIN:VTIMEZONE
TZID:UTC
BEGIN:STANDARD
TZOFFSETFROM:+0000
TZOFFSETTO:+0000
TZNAME:UTC
DTSTART:20190101T000000
END:STANDARD
END:VTIMEZONE
BEGIN:VEVENT
DTSTART;TZID=UTC:20190909T090000
DTEND;TZID=UTC:20190909T160000
DTSTAMP:20260423T183956
CREATED:20190808T172229Z
LAST-MODIFIED:20190808T202139Z
UID:664-1568019600-1568044800@hr.newark.rutgers.edu
SUMMARY:New Employee Orientation
DESCRIPTION:Welcome to Rutgers University\, The State University of New Jersey \nJoin us for The New Employee Orientation and get to know the people\, places and facts about Rutgers University\, The State University of New Jersey. \nThe agenda will be as follows: \n9:00 am – 9:15 am      Welcome Participants\n9:15 am – 9:40 am      An Overview of Rutgers University\, The State University of New Jersey\n9:45 am – 12:00 pm    Employee Benefit Information Overview\n12:00 pm – 1:30 pm    Lunch Break\n1:40 pm – 2:00 pm      Getting to Know Rutgers University-Newark (RU-N)\n2:00 pm – 2:30 pm      Meet Rutgers University-Newark\n2:30 pm – 3:00 pm      Departmental On-Boarding\n3:00 pm – 3:30 pm      RU-N Campus Tour (weather permitting)\n\nCongratulations and we look forward to meeting you! \nRegister online.
URL:https://hr.newark.rutgers.edu/event/new-employee-orientation-2/
LOCATION:Blumenthal Hall Room 201\, 249 University Avenue\, Newark\, NJ\, 07102-1897\, United States
END:VEVENT
END:VCALENDAR