BEGIN:VCALENDAR
VERSION:2.0
PRODID:-//Newark Human Resources - ECPv6.7.0//NONSGML v1.0//EN
CALSCALE:GREGORIAN
METHOD:PUBLISH
X-WR-CALNAME:Newark Human Resources
X-ORIGINAL-URL:https://hr.newark.rutgers.edu
X-WR-CALDESC:Events for Newark Human Resources
REFRESH-INTERVAL;VALUE=DURATION:PT1H
X-Robots-Tag:noindex
X-PUBLISHED-TTL:PT1H
BEGIN:VTIMEZONE
TZID:UTC
BEGIN:STANDARD
TZOFFSETFROM:+0000
TZOFFSETTO:+0000
TZNAME:UTC
DTSTART:20200101T000000
END:STANDARD
END:VTIMEZONE
BEGIN:VEVENT
DTSTART;TZID=UTC:20200424T100000
DTEND;TZID=UTC:20200424T140000
DTSTAMP:20260426T034418
CREATED:20200304T181924Z
LAST-MODIFIED:20200326T192604Z
UID:1491-1587722400-1587736800@hr.newark.rutgers.edu
SUMMARY:"Then and Now" RU-N Gallery Walk
DESCRIPTION:POSTPONED UNTIL FURTHER NOTICE \nREGISTRATION NOT REQUIRED \n  \n 
URL:https://hr.newark.rutgers.edu/event/the-and-now-ru-n-gallery-walk/
LOCATION:PRCC Bergen Room
ATTACH;FMTTYPE=application/pdf:https://sites.rutgers.edu/hr-newark/wp-content/uploads/sites/108/2020/03/gallery-walk-v2.pdf
END:VEVENT
BEGIN:VEVENT
DTSTART;TZID=UTC:20200424T120000
DTEND;TZID=UTC:20200424T133000
DTSTAMP:20260426T034418
CREATED:20200304T182135Z
LAST-MODIFIED:20200326T192112Z
UID:1493-1587729600-1587735000@hr.newark.rutgers.edu
SUMMARY:"Vision 2020" a Vision Board
DESCRIPTION:POSTPONED UNTIL FURTHER NOTICE \nRegister 
URL:https://hr.newark.rutgers.edu/event/vision-2020-a-vision-board/
LOCATION:PRCC Bergen Room
ATTACH;FMTTYPE=application/pdf:https://sites.rutgers.edu/hr-newark/wp-content/uploads/sites/108/2020/03/Vision-Board.pdf
END:VEVENT
BEGIN:VEVENT
DTSTART;TZID=UTC:20200424T130000
DTEND;TZID=UTC:20200424T140000
DTSTAMP:20260426T034418
CREATED:20200304T182345Z
LAST-MODIFIED:20200326T192708Z
UID:1495-1587733200-1587736800@hr.newark.rutgers.edu
SUMMARY:"Shared Humanity" Truth\, Racial Healing and Transformation
DESCRIPTION:POSTPONED UNTIL FURTHER NOTICE \nRegister 
URL:https://hr.newark.rutgers.edu/event/shared-humanity/
LOCATION:PRCC Bergen Room
ATTACH;FMTTYPE=application/pdf:https://sites.rutgers.edu/hr-newark/wp-content/uploads/sites/108/2020/03/Shared-Humanity.pdf
END:VEVENT
END:VCALENDAR