BEGIN:VCALENDAR
VERSION:2.0
PRODID:-//Newark Human Resources - ECPv6.7.0//NONSGML v1.0//EN
CALSCALE:GREGORIAN
METHOD:PUBLISH
X-ORIGINAL-URL:https://hr.newark.rutgers.edu
X-WR-CALDESC:Events for Newark Human Resources
REFRESH-INTERVAL;VALUE=DURATION:PT1H
X-Robots-Tag:noindex
X-PUBLISHED-TTL:PT1H
BEGIN:VTIMEZONE
TZID:UTC
BEGIN:STANDARD
TZOFFSETFROM:+0000
TZOFFSETTO:+0000
TZNAME:UTC
DTSTART:20200101T000000
END:STANDARD
END:VTIMEZONE
BEGIN:VEVENT
DTSTART;TZID=UTC:20200507T090000
DTEND;TZID=UTC:20200507T170000
DTSTAMP:20260425T021656
CREATED:20200114T163152Z
LAST-MODIFIED:20200114T163152Z
UID:1310-1588842000-1588870800@hr.newark.rutgers.edu
SUMMARY:TIAA Investment Counseling
DESCRIPTION:Rutgers Newark 2020 Event Flyer
URL:https://hr.newark.rutgers.edu/event/tiaa-investment-counseling-12/
LOCATION:Blumenthal Hall Room 202\, 249 University Ave Blumenthal Hall Room 202\, Newark\, NJ\, 07102\, United States
END:VEVENT
END:VCALENDAR