BEGIN:VCALENDAR
VERSION:2.0
PRODID:-//Newark Human Resources - ECPv6.7.0//NONSGML v1.0//EN
CALSCALE:GREGORIAN
METHOD:PUBLISH
X-ORIGINAL-URL:https://hr.newark.rutgers.edu
X-WR-CALDESC:Events for Newark Human Resources
REFRESH-INTERVAL;VALUE=DURATION:PT1H
X-Robots-Tag:noindex
X-PUBLISHED-TTL:PT1H
BEGIN:VTIMEZONE
TZID:UTC
BEGIN:STANDARD
TZOFFSETFROM:+0000
TZOFFSETTO:+0000
TZNAME:UTC
DTSTART:20200101T000000
END:STANDARD
END:VTIMEZONE
BEGIN:VEVENT
DTSTART;TZID=UTC:20200807T100000
DTEND;TZID=UTC:20200807T110000
DTSTAMP:20260424T110140
CREATED:20200723T145148Z
LAST-MODIFIED:20200723T145148Z
UID:1965-1596794400-1596798000@hr.newark.rutgers.edu
SUMMARY:Annual Staff E-ppreciation: Techday Friday
DESCRIPTION:Microsoft Office 365\nby RU-N Office of Information Technology \nThis presentation provides information on effective use of Microsoft Office 365 for business. The session offers hands on activity\, navigation techniques\, and resource sharing. \nLearning Goals include: \n\nManaging and Setting Calendar (i.e. use of Scheduling Assistant\, Add-ins\, etc.)\nPlanner\nOneNote for Time Management\nBookings (if time permits)\n\nHands on exercises and interactive games included.  When it’s time to join\, CLICK HERE (Webex link) \nREGISTER  \n  \n 
URL:https://hr.newark.rutgers.edu/event/annual-staff-e-ppreciation-techday-friday/
ATTACH;FMTTYPE=image/jpeg:https://sites.rutgers.edu/hr-newark/wp-content/uploads/sites/108/2020/07/Header-E-Preciatoin-scaled-e1595434757734.jpg
END:VEVENT
BEGIN:VEVENT
DTSTART;TZID=UTC:20200807T140000
DTEND;TZID=UTC:20200807T160000
DTSTAMP:20260424T110140
CREATED:20200723T145220Z
LAST-MODIFIED:20200723T145220Z
UID:1967-1596808800-1596816000@hr.newark.rutgers.edu
SUMMARY:Annual Staff E-ppreciation: Friday Funday
DESCRIPTION:Annual RU-N BINGO\nThe traditionally played game is on! Staff Appreciation will not be the same without it. \nInvite the team to play along\, connect virtually with colleagues. Nothing can stop us from making this game happen. Virtual Bingo cards are shared upon joining the session. Basket of prizes awaits our game winners! \nNo registration required. \nPLAY NOW!  \n 
URL:https://hr.newark.rutgers.edu/event/annual-staff-e-ppreciation-friday-funday-2/
ATTACH;FMTTYPE=image/jpeg:https://sites.rutgers.edu/hr-newark/wp-content/uploads/sites/108/2020/07/Header-E-Preciatoin-scaled-e1595434757734.jpg
END:VEVENT
END:VCALENDAR