BEGIN:VCALENDAR
VERSION:2.0
PRODID:-//Newark Human Resources - ECPv6.7.0//NONSGML v1.0//EN
CALSCALE:GREGORIAN
METHOD:PUBLISH
X-WR-CALNAME:Newark Human Resources
X-ORIGINAL-URL:https://hr.newark.rutgers.edu
X-WR-CALDESC:Events for Newark Human Resources
REFRESH-INTERVAL;VALUE=DURATION:PT1H
X-Robots-Tag:noindex
X-PUBLISHED-TTL:PT1H
BEGIN:VTIMEZONE
TZID:UTC
BEGIN:STANDARD
TZOFFSETFROM:+0000
TZOFFSETTO:+0000
TZNAME:UTC
DTSTART:20200101T000000
END:STANDARD
END:VTIMEZONE
BEGIN:VEVENT
DTSTART;TZID=UTC:20200901T100000
DTEND;TZID=UTC:20200901T120000
DTSTAMP:20260425T222328
CREATED:20200813T211803Z
LAST-MODIFIED:20200813T212211Z
UID:2099-1598954400-1598961600@hr.newark.rutgers.edu
SUMMARY:TA/GA Benefits Orientation-Virtual
DESCRIPTION:Congratulations and welcome to Rutgers University-Newark! \nAttend the online TA/GA Benefits Orientation to learn more about available benefits offered to Teaching and Graduate Assistants employed by Rutgers University\, The State University of New Jersey. \nThis orientation will provide answers to commonly asked questions\, guidance on completing any applicable forms and required documentation\, and learning about other optional benefits open to eligible employees. \nREGISTER \nLink to Webex will be sent separately. If you do not have access to any of type of technology to attend the presentation\, please reach out to your immediate supervisor or hiring manager for assistance.
URL:https://hr.newark.rutgers.edu/event/ta-ga-benefits-orientation/
END:VEVENT
END:VCALENDAR