BEGIN:VCALENDAR
VERSION:2.0
PRODID:-//Newark Human Resources - ECPv6.7.0//NONSGML v1.0//EN
CALSCALE:GREGORIAN
METHOD:PUBLISH
X-ORIGINAL-URL:https://hr.newark.rutgers.edu
X-WR-CALDESC:Events for Newark Human Resources
REFRESH-INTERVAL;VALUE=DURATION:PT1H
X-Robots-Tag:noindex
X-PUBLISHED-TTL:PT1H
BEGIN:VTIMEZONE
TZID:UTC
BEGIN:STANDARD
TZOFFSETFROM:+0000
TZOFFSETTO:+0000
TZNAME:UTC
DTSTART:20200101T000000
END:STANDARD
END:VTIMEZONE
BEGIN:VEVENT
DTSTART;TZID=UTC:20200908T100000
DTEND;TZID=UTC:20200908T120000
DTSTAMP:20260425T215407
CREATED:20200714T145212Z
LAST-MODIFIED:20200813T213919Z
UID:1913-1599559200-1599566400@hr.newark.rutgers.edu
SUMMARY:New Employee Orientation (Virtual)
DESCRIPTION:Congratulations and welcome to Rutgers University-Newark! \nNew Employee Orientation Presentation – Provides information about Rutgers University\, The State University of New Jersey along with links to websites and resources you can use as you begin you career with us. During this session\, you will learn about the history\, mission\, and vision of our University. We will provide a virtual tour of Rutgers University-Newark campus and share useful information to smoothly transition to your new job. \nJoin us via Webex on your Computer\, Tablet\, or Smart phone. If you do not have access to any of the technology\, please reach out to your immediate supervisor prior to the session for assistance. \n 
URL:https://hr.newark.rutgers.edu/event/new-employee-orientation-virtual/
END:VEVENT
BEGIN:VEVENT
DTSTART;TZID=UTC:20200908T100000
DTEND;TZID=UTC:20200908T140000
DTSTAMP:20260425T215407
CREATED:20200226T154040Z
LAST-MODIFIED:20200226T154040Z
UID:1467-1599559200-1599573600@hr.newark.rutgers.edu
SUMMARY:Voya Financial Advisement
DESCRIPTION:You have a vision for your retirement. But developing financial strategies\, choosing investments and maintaining them throughout retirement are things many people just don’t feel qualified to tackle. Fortunately\, help is at hand. A financial advisor can give you a holistic view of the process\, help you plan and play an active part in your financial strategy. An advisor can give you a better understanding of how everything works — giving you more control over your money. \nCall 877-873-0321 or visit the Voya Financial Website
URL:https://hr.newark.rutgers.edu/event/voya-financial-advisement-13/
END:VEVENT
END:VCALENDAR