BEGIN:VCALENDAR
VERSION:2.0
PRODID:-//Newark Human Resources - ECPv6.7.0//NONSGML v1.0//EN
CALSCALE:GREGORIAN
METHOD:PUBLISH
X-WR-CALNAME:Newark Human Resources
X-ORIGINAL-URL:https://hr.newark.rutgers.edu
X-WR-CALDESC:Events for Newark Human Resources
REFRESH-INTERVAL;VALUE=DURATION:PT1H
X-Robots-Tag:noindex
X-PUBLISHED-TTL:PT1H
BEGIN:VTIMEZONE
TZID:UTC
BEGIN:STANDARD
TZOFFSETFROM:+0000
TZOFFSETTO:+0000
TZNAME:UTC
DTSTART:20200101T000000
END:STANDARD
END:VTIMEZONE
BEGIN:VEVENT
DTSTART;TZID=UTC:20201109T100000
DTEND;TZID=UTC:20201109T120000
DTSTAMP:20260425T131045
CREATED:20200910T215455Z
LAST-MODIFIED:20201028T205730Z
UID:2123-1604916000-1604923200@hr.newark.rutgers.edu
SUMMARY:New Employee Orientation (Virtual)
DESCRIPTION:Congratulations and welcome to Rutgers University-Newark! \nNew Employee Orientation Presentation – Provides information about Rutgers University\, The State University of New Jersey along with links to websites and resources you can use as you begin you career with us. \nDuring the first half of this session\, you will learn about the history\, mission\, and vision of our University. We will provide a virtual tour of Rutgers University-Newark campus and share useful information to smoothly transition to your new job. \nEmployees eligible to participate also will learn about the various State Health Benefits and and non-state benefit programs available. \nJoin us via Webex on your Computer\, Tablet\, or Smart phone. If you do not have access to any of the technology\, please reach out to your immediate supervisor prior to the session for assistance. \nNot yet registered? \nREGISTER
URL:https://hr.newark.rutgers.edu/event/new-employee-orientation-virtual-2/
END:VEVENT
END:VCALENDAR