BEGIN:VCALENDAR
VERSION:2.0
PRODID:-//Newark Human Resources - ECPv6.7.0//NONSGML v1.0//EN
CALSCALE:GREGORIAN
METHOD:PUBLISH
X-WR-CALNAME:Newark Human Resources
X-ORIGINAL-URL:https://hr.newark.rutgers.edu
X-WR-CALDESC:Events for Newark Human Resources
REFRESH-INTERVAL;VALUE=DURATION:PT1H
X-Robots-Tag:noindex
X-PUBLISHED-TTL:PT1H
BEGIN:VTIMEZONE
TZID:UTC
BEGIN:STANDARD
TZOFFSETFROM:+0000
TZOFFSETTO:+0000
TZNAME:UTC
DTSTART:20240101T000000
END:STANDARD
END:VTIMEZONE
BEGIN:VEVENT
DTSTART;TZID=UTC:20241115T100000
DTEND;TZID=UTC:20241115T120000
DTSTAMP:20260423T234834
CREATED:20241014T175601Z
LAST-MODIFIED:20241014T181518Z
UID:3202-1731664800-1731672000@hr.newark.rutgers.edu
SUMMARY:StrengthsQuest Workshop
DESCRIPTION:Brought to you in partnership with RU-N Division of Student Affairs.  \nCLICK TO REGISTER \nSeats are limited.\nRegister by October 18th\, 2024
URL:https://hr.newark.rutgers.edu/event/strengthsquest-workshop/
LOCATION:PRCC Bergen Room
ATTACH;FMTTYPE=image/png:https://sites.rutgers.edu/hr-newark/wp-content/uploads/sites/108/2024/10/StrengthsQuest-2024-e1728928543587.png
END:VEVENT
END:VCALENDAR