BEGIN:VCALENDAR
VERSION:2.0
PRODID:-//Newark Human Resources - ECPv6.7.0//NONSGML v1.0//EN
CALSCALE:GREGORIAN
METHOD:PUBLISH
X-WR-CALNAME:Newark Human Resources
X-ORIGINAL-URL:https://hr.newark.rutgers.edu
X-WR-CALDESC:Events for Newark Human Resources
REFRESH-INTERVAL;VALUE=DURATION:PT1H
X-Robots-Tag:noindex
X-PUBLISHED-TTL:PT1H
BEGIN:VTIMEZONE
TZID:UTC
BEGIN:STANDARD
TZOFFSETFROM:+0000
TZOFFSETTO:+0000
TZNAME:UTC
DTSTART:20260101T000000
END:STANDARD
END:VTIMEZONE
BEGIN:VEVENT
DTSTART;TZID=UTC:20260609T100000
DTEND;TZID=UTC:20260609T123000
DTSTAMP:20260424T023154
CREATED:20260218T141015Z
LAST-MODIFIED:20260218T141015Z
UID:3470-1780999200-1781008200@hr.newark.rutgers.edu
SUMMARY:StrengthsQuest
DESCRIPTION:Being your best self means playing ot your strengths at work and everywhere else. Discover your strengths and learn how to use them to thrive. The CliftonStrengths assessment lets you uncover the 4 domains of unique 34 themes that explain the elements of human behavior. \nIdentify your TOP 5 Signature themes that reflect and describe what you naturally do best. This is an opportunity to explore ways to maximize your strengths. \nOpen to all RU-N employees. Space is limited!
URL:https://hr.newark.rutgers.edu/event/strengthsquest/
LOCATION:PRCC Bergen Room
END:VEVENT
END:VCALENDAR