BEGIN:VCALENDAR
VERSION:2.0
PRODID:-//Newark Human Resources - ECPv6.7.0//NONSGML v1.0//EN
CALSCALE:GREGORIAN
METHOD:PUBLISH
X-ORIGINAL-URL:https://hr.newark.rutgers.edu
X-WR-CALDESC:Events for Newark Human Resources
REFRESH-INTERVAL;VALUE=DURATION:PT1H
X-Robots-Tag:noindex
X-PUBLISHED-TTL:PT1H
BEGIN:VTIMEZONE
TZID:UTC
BEGIN:STANDARD
TZOFFSETFROM:+0000
TZOFFSETTO:+0000
TZNAME:UTC
DTSTART:20260101T000000
END:STANDARD
END:VTIMEZONE
BEGIN:VEVENT
DTSTART;TZID=UTC:20260812T100000
DTEND;TZID=UTC:20260812T120000
DTSTAMP:20260420T095330
CREATED:20251216T212151Z
LAST-MODIFIED:20260210T151012Z
UID:3441-1786528800-1786536000@hr.newark.rutgers.edu
SUMMARY:True Colors
DESCRIPTION:True Colors differentiate the four central primary personality types: ORANGE\, GOLD\, GREEN\, and BLUE. \nThese colors represent behavioral characteristics and preferences associated with their differing strengths\, stresses\, values\, and joys. Understanding the spectrum of colors from brightest to the least\, and recognizing individual differences\, is an effective tool for relationship-building and promotes mindful interactions that are applicable in the workplace and personal interactions. \nValuing Differences and Creating Unity. \nAvailable to all RU-N employees. \nCLICK TO REGISTER \n 
URL:https://hr.newark.rutgers.edu/event/3441/
LOCATION:45 Bleeker St. Newark\, NJ 07102\, 45 Bleeker St\, Newark\, NJ\, 07102\, United States
END:VEVENT
BEGIN:VEVENT
DTSTART;TZID=UTC:20260824T090000
DTEND;TZID=UTC:20260824T150000
DTSTAMP:20260420T095330
CREATED:20251118T165640Z
LAST-MODIFIED:20251118T165640Z
UID:3416-1787562000-1787583600@hr.newark.rutgers.edu
SUMMARY:New Employee Orientation
DESCRIPTION:Welcome to Rutgers University-Newark! \nAttend the New Employee Orientation (NEO) and learn more about Rutgers University\, The State University of New Jersey\, its history\, mission\, and vision. \nGet information about the comprehensive NJ State Health Benefits Programs (SHBP) available for eligible employees and the various benefit programs offered by the university. \nYou will also have opportunities to meet colleagues representing the different units on campus and Discover RU-N at the scheduled Walking Tour of the campus! \nCLICK TO REGISTER \nWe look forward to meeting you!
URL:https://hr.newark.rutgers.edu/event/new-employee-orientation-101/
LOCATION:45 Bleeker St. Newark\, NJ 07102\, 45 Bleeker St\, Newark\, NJ\, 07102\, United States
END:VEVENT
BEGIN:VEVENT
DTSTART;TZID=UTC:20260831T090000
DTEND;TZID=UTC:20260831T130000
DTSTAMP:20260420T095330
CREATED:20251118T180738Z
LAST-MODIFIED:20251118T181946Z
UID:3431-1788166800-1788181200@hr.newark.rutgers.edu
SUMMARY:New Acadamic Year Employee Benefits Orientation
DESCRIPTION:Welcome to Rutgers University-Newark! \nLearn about the benefits available to all eligible Academic Year (Faculty/TA/GA) employees of Rutgers\, The State University of New Jersey.  The presentation will share links to resources that assist new employees with enrolling and participating in the State Health Benefits Programs (SHBP). \nCLICK TO REGISTER \nThe link to join virtually will be shared with all registered attendees. \nWe look forward to meeting you!
URL:https://hr.newark.rutgers.edu/event/new-acadamic-year-employee-benefits-orientation/
LOCATION:VIRTUAL
END:VEVENT
BEGIN:VEVENT
DTSTART;TZID=UTC:20260901T090000
DTEND;TZID=UTC:20260901T150000
DTSTAMP:20260420T095330
CREATED:20251118T182348Z
LAST-MODIFIED:20251118T182348Z
UID:3435-1788253200-1788274800@hr.newark.rutgers.edu
SUMMARY:New Academic Year Employee Benefits Orientation
DESCRIPTION:Welcome to Rutgers University-Newark! \nLearn about the benefits available to all eligible Academic Year (Faculty/TA/GA) employees of Rutgers\, The State University of New Jersey.  The presentation will share links to resources that assist new employees with enrolling and participating in the State Health Benefits Programs (SHBP). \nCLICK TO REGISTER \nThe link to join virtually will be shared with all registered attendees. \nWe look forward to meeting you!
URL:https://hr.newark.rutgers.edu/event/new-academic-year-employee-benefits-orientation/
LOCATION:VIRTUAL
END:VEVENT
BEGIN:VEVENT
DTSTART;TZID=UTC:20260908T090000
DTEND;TZID=UTC:20260908T150000
DTSTAMP:20260420T095330
CREATED:20251118T165753Z
LAST-MODIFIED:20251118T165753Z
UID:3418-1788858000-1788879600@hr.newark.rutgers.edu
SUMMARY:New Employee Orientation
DESCRIPTION:Welcome to Rutgers University-Newark! \nAttend the New Employee Orientation (NEO) and learn more about Rutgers University\, The State University of New Jersey\, its history\, mission\, and vision. \nGet information about the comprehensive NJ State Health Benefits Programs (SHBP) available for eligible employees and the various benefit programs offered by the university. \nYou will also have opportunities to meet colleagues representing the different units on campus and Discover RU-N at the scheduled Walking Tour of the campus! \nCLICK TO REGISTER \nWe look forward to meeting you!
URL:https://hr.newark.rutgers.edu/event/new-employee-orientation-102/
LOCATION:SPAA Room 203\, 111 Washington St.\, Newark\, NJ\, 07102
END:VEVENT
BEGIN:VEVENT
DTSTART;TZID=UTC:20260921T090000
DTEND;TZID=UTC:20260921T150000
DTSTAMP:20260420T095330
CREATED:20251118T180301Z
LAST-MODIFIED:20251118T180301Z
UID:3428-1789981200-1790002800@hr.newark.rutgers.edu
SUMMARY:New Employee Orientation
DESCRIPTION:Welcome to Rutgers University-Newark! \nAttend the New Employee Orientation (NEO) and learn more about Rutgers University\, The State University of New Jersey\, its history\, mission\, and vision. \nGet information about the comprehensive NJ State Health Benefits Programs (SHBP) available for eligible employees and the various benefit programs offered by the university. \nYou will also have opportunities to meet colleagues representing the different units on campus and Discover RU-N at the scheduled Walking Tour of the campus! \nCLICK TO REGISTER \nWe look forward to meeting you!
URL:https://hr.newark.rutgers.edu/event/new-employee-orientation-107/
LOCATION:SPAA Room 203\, 111 Washington St.\, Newark\, NJ\, 07102
END:VEVENT
BEGIN:VEVENT
DTSTART;TZID=UTC:20260930T100000
DTEND;TZID=UTC:20260930T120000
DTSTAMP:20260420T095330
CREATED:20251216T212639Z
LAST-MODIFIED:20251217T133745Z
UID:3445-1790762400-1790769600@hr.newark.rutgers.edu
SUMMARY:DISCover Your Communication Style
DESCRIPTION:DISC refers to the four core sets of observable behavior patterns and styles. \n\nDominant\nSteady\nInfluence\nConscientious\n\nEach style denotes a specific focus on personal energy and motivation. It gives valuable information on an individual’s natural or adaptive preference for communication. \nCLICK TO REGISTER \n 
URL:https://hr.newark.rutgers.edu/event/discover-your-communication-style-4/
LOCATION:45 Bleeker St. Newark\, NJ 07102\, 45 Bleeker St\, Newark\, NJ\, 07102\, United States
END:VEVENT
BEGIN:VEVENT
DTSTART;TZID=UTC:20261005T090000
DTEND;TZID=UTC:20261005T150000
DTSTAMP:20260420T095330
CREATED:20251118T165854Z
LAST-MODIFIED:20251118T165854Z
UID:3420-1791190800-1791212400@hr.newark.rutgers.edu
SUMMARY:New Employee Orientation
DESCRIPTION:Welcome to Rutgers University-Newark! \nAttend the New Employee Orientation (NEO) and learn more about Rutgers University\, The State University of New Jersey\, its history\, mission\, and vision. \nGet information about the comprehensive NJ State Health Benefits Programs (SHBP) available for eligible employees and the various benefit programs offered by the university. \nYou will also have opportunities to meet colleagues representing the different units on campus and Discover RU-N at the scheduled Walking Tour of the campus! \nCLICK TO REGISTER \nWe look forward to meeting you!
URL:https://hr.newark.rutgers.edu/event/new-employee-orientation-103/
LOCATION:SPAA Room 203\, 111 Washington St.\, Newark\, NJ\, 07102
END:VEVENT
BEGIN:VEVENT
DTSTART;TZID=UTC:20261019T090000
DTEND;TZID=UTC:20261019T150000
DTSTAMP:20260420T095330
CREATED:20251118T170003Z
LAST-MODIFIED:20251118T170003Z
UID:3422-1792400400-1792422000@hr.newark.rutgers.edu
SUMMARY:New Employee Orientation
DESCRIPTION:Welcome to Rutgers University-Newark! \nAttend the New Employee Orientation (NEO) and learn more about Rutgers University\, The State University of New Jersey\, its history\, mission\, and vision. \nGet information about the comprehensive NJ State Health Benefits Programs (SHBP) available for eligible employees and the various benefit programs offered by the university. \nYou will also have opportunities to meet colleagues representing the different units on campus and Discover RU-N at the scheduled Walking Tour of the campus! \nCLICK TO REGISTER \nWe look forward to meeting you!
URL:https://hr.newark.rutgers.edu/event/new-employee-orientation-104/
LOCATION:SPAA Room 203\, 111 Washington St.\, Newark\, NJ\, 07102
END:VEVENT
BEGIN:VEVENT
DTSTART;TZID=UTC:20261104T100000
DTEND;TZID=UTC:20261104T120000
DTSTAMP:20260420T095330
CREATED:20251216T212921Z
LAST-MODIFIED:20251216T212921Z
UID:3449-1793786400-1793793600@hr.newark.rutgers.edu
SUMMARY:Handling Crucial Conversations
DESCRIPTION:Leverage skills for effective conversations when faced with conflict or challenging situations. \nLearn practical applications using various models for self-awareness and how to distinguish the difference between Dialogue\, Discussion\, and Debate. \nMaster the techniques to reach a “safe” space when conversations turn to conflicts. \nCLICK TO REGISTER \n 
URL:https://hr.newark.rutgers.edu/event/handling-crucial-conversations-2/
LOCATION:45 Bleeker St. Newark\, NJ 07102\, 45 Bleeker St\, Newark\, NJ\, 07102\, United States
END:VEVENT
BEGIN:VEVENT
DTSTART;TZID=UTC:20261109T090000
DTEND;TZID=UTC:20261109T150000
DTSTAMP:20260420T095330
CREATED:20251118T170115Z
LAST-MODIFIED:20251118T170115Z
UID:3424-1794214800-1794236400@hr.newark.rutgers.edu
SUMMARY:New Employee Orientation
DESCRIPTION:Welcome to Rutgers University-Newark! \nAttend the New Employee Orientation (NEO) and learn more about Rutgers University\, The State University of New Jersey\, its history\, mission\, and vision. \nGet information about the comprehensive NJ State Health Benefits Programs (SHBP) available for eligible employees and the various benefit programs offered by the university. \nYou will also have opportunities to meet colleagues representing the different units on campus and Discover RU-N at the scheduled Walking Tour of the campus! \nCLICK TO REGISTER \nWe look forward to meeting you!
URL:https://hr.newark.rutgers.edu/event/new-employee-orientation-105/
LOCATION:SPAA Room 203\, 111 Washington St.\, Newark\, NJ\, 07102
END:VEVENT
BEGIN:VEVENT
DTSTART;TZID=UTC:20261207T090000
DTEND;TZID=UTC:20261207T150000
DTSTAMP:20260420T095330
CREATED:20251118T170223Z
LAST-MODIFIED:20251118T170223Z
UID:3426-1796634000-1796655600@hr.newark.rutgers.edu
SUMMARY:New Employee Orientation
DESCRIPTION:Welcome to Rutgers University-Newark! \nAttend the New Employee Orientation (NEO) and learn more about Rutgers University\, The State University of New Jersey\, its history\, mission\, and vision. \nGet information about the comprehensive NJ State Health Benefits Programs (SHBP) available for eligible employees and the various benefit programs offered by the university. \nYou will also have opportunities to meet colleagues representing the different units on campus and Discover RU-N at the scheduled Walking Tour of the campus! \nCLICK TO REGISTER \nWe look forward to meeting you!
URL:https://hr.newark.rutgers.edu/event/new-employee-orientation-106/
LOCATION:SPAA Room 203\, 111 Washington St.\, Newark\, NJ\, 07102
END:VEVENT
END:VCALENDAR