BEGIN:VCALENDAR
VERSION:2.0
PRODID:-//Newark Human Resources - ECPv6.7.0//NONSGML v1.0//EN
CALSCALE:GREGORIAN
METHOD:PUBLISH
X-ORIGINAL-URL:https://hr.newark.rutgers.edu
X-WR-CALDESC:Events for Newark Human Resources
REFRESH-INTERVAL;VALUE=DURATION:PT1H
X-Robots-Tag:noindex
X-PUBLISHED-TTL:PT1H
BEGIN:VTIMEZONE
TZID:UTC
BEGIN:STANDARD
TZOFFSETFROM:+0000
TZOFFSETTO:+0000
TZNAME:UTC
DTSTART:20200101T000000
END:STANDARD
END:VTIMEZONE
BEGIN:VEVENT
DTSTART;TZID=UTC:20200204T130000
DTEND;TZID=UTC:20200204T134500
DTSTAMP:20260419T134156
CREATED:20200127T203729Z
LAST-MODIFIED:20200127T203729Z
UID:1316-1580821200-1580823900@hr.newark.rutgers.edu
SUMMARY:Faculty and Staff Yoga
DESCRIPTION:Yoga is offered to all Faculty and Staff at Rutgers University-Newark. \nInvite your colleagues to attend and join the sessions every Tuesdays and Thursdays from 1:00 p.m. – 1:45 p.m. \nPaul Robeson Campus Center  \nPRCC Dance Theater\nRoom 351\n350 MLK Jr. Blvd.\nNewark\, NJ 07102 \nYoga mats are available at the session or you are welcome to bring your own.
URL:https://hr.newark.rutgers.edu/event/faculty-and-staff-yoga-7/
ATTACH;FMTTYPE=image/jpeg:https://sites.rutgers.edu/hr-newark/wp-content/uploads/sites/108/2020/01/Yoga-Spring-2020.jpg
END:VEVENT
BEGIN:VEVENT
DTSTART;TZID=UTC:20200206T130000
DTEND;TZID=UTC:20200206T134500
DTSTAMP:20260419T134156
CREATED:20200127T203824Z
LAST-MODIFIED:20200127T203824Z
UID:1318-1580994000-1580996700@hr.newark.rutgers.edu
SUMMARY:Faculty and Staff Yoga
DESCRIPTION:Yoga is offered to all Faculty and Staff at Rutgers University-Newark. \nInvite your colleagues to attend and join the sessions every Tuesdays and Thursdays from 1:00 p.m. – 1:45 p.m. \nPaul Robeson Campus Center  \nPRCC Dance Theater\nRoom 351\n350 MLK Jr. Blvd.\nNewark\, NJ 07102 \nYoga mats are available at the session or you are welcome to bring your own.
URL:https://hr.newark.rutgers.edu/event/faculty-and-staff-yoga-8/
ATTACH;FMTTYPE=image/jpeg:https://sites.rutgers.edu/hr-newark/wp-content/uploads/sites/108/2020/01/Yoga-Spring-2020.jpg
END:VEVENT
BEGIN:VEVENT
DTSTART;TZID=UTC:20200210T090000
DTEND;TZID=UTC:20200210T160000
DTSTAMP:20260419T134156
CREATED:20191126T193726Z
LAST-MODIFIED:20191126T193814Z
UID:1134-1581325200-1581350400@hr.newark.rutgers.edu
SUMMARY:New Employee Orientation
DESCRIPTION:Welcome to Rutgers University\, The State University of New Jersey \nJoin us for The New Employee Orientation and get to know the people\, places and facts about Rutgers University\, The State University of New Jersey. \nThe agenda will be as follows: \n9:00 am – 9:15 am      Welcome Participants\n9:15 am – 9:40 am      An Overview of Rutgers University\, The State University of New Jersey\n9:45 am – 12:00 pm    Employee Benefit Information Overview\n12:00 pm – 1:30 pm    Lunch Break\n1:40 pm – 2:00 pm      Getting to Know Rutgers University-Newark (RU-N)\n2:00 pm – 2:30 pm      Meet Rutgers University-Newark\n2:30 pm – 3:00 pm      Departmental On-Boarding\n3:00 pm – 3:30 pm      RU-N Campus Tour (weather permitting)\n\nCongratulations and we look forward to meeting you! \nRegister online.
URL:https://hr.newark.rutgers.edu/event/new-employee-orientation-12/
LOCATION:Blumenthal Hall Room 201\, 249 University Avenue\, Newark\, NJ\, 07102-1897\, United States
END:VEVENT
BEGIN:VEVENT
DTSTART;TZID=UTC:20200211T090000
DTEND;TZID=UTC:20200211T170000
DTSTAMP:20260419T134156
CREATED:20200114T162635Z
LAST-MODIFIED:20200114T162635Z
UID:1299-1581411600-1581440400@hr.newark.rutgers.edu
SUMMARY:TIAA Investment Counseling
DESCRIPTION:Rutgers Newark 2020 Event Flyer
URL:https://hr.newark.rutgers.edu/event/tiaa-investment-counseling-7/
LOCATION:Blumenthal Hall Room 202\, 249 University Ave Blumenthal Hall Room 202\, Newark\, NJ\, 07102\, United States
END:VEVENT
BEGIN:VEVENT
DTSTART;TZID=UTC:20200211T130000
DTEND;TZID=UTC:20200211T134500
DTSTAMP:20260419T134156
CREATED:20200127T203919Z
LAST-MODIFIED:20200127T203919Z
UID:1320-1581426000-1581428700@hr.newark.rutgers.edu
SUMMARY:Faculty and Staff Yoga
DESCRIPTION:Yoga is offered to all Faculty and Staff at Rutgers University-Newark. \nInvite your colleagues to attend and join the sessions every Tuesdays and Thursdays from 1:00 p.m. – 1:45 p.m. \nPaul Robeson Campus Center  \nPRCC Dance Theater\nRoom 351\n350 MLK Jr. Blvd.\nNewark\, NJ 07102 \nYoga mats are available at the session or you are welcome to bring your own.
URL:https://hr.newark.rutgers.edu/event/faculty-and-staff-yoga-9/
ATTACH;FMTTYPE=image/jpeg:https://sites.rutgers.edu/hr-newark/wp-content/uploads/sites/108/2020/01/Yoga-Spring-2020.jpg
END:VEVENT
BEGIN:VEVENT
DTSTART;TZID=UTC:20200212T090000
DTEND;TZID=UTC:20200212T150000
DTSTAMP:20260419T134156
CREATED:20191211T150338Z
LAST-MODIFIED:20191211T150338Z
UID:1233-1581498000-1581519600@hr.newark.rutgers.edu
SUMMARY:Prudential ABP & NJSEDCP Advisment
DESCRIPTION:The Alternate Benefit Program (ABP) is a tax-sheltered\, defined contribution retirement program for certain higher education faculty\, instructors and administrators. ABP provides retirement benefits\, life insurance and disability coverage\, which\, when combined with Social Security and other tax-deferred plans\, can provide security in retirement. \nThe New Jersey State Employees Deferred Compensation Plan (NJSEDCP) is a governmental 457(b) defined contribution retirement plan that allows for voluntary tax-sheltered contributions by all state employees\, up to an annual contribution limit set by the Internal Revenue Service that is separate from the university 403(b) plan. \nFor more information\, contact Alicia Smith\, from Prudential Retirement\, to discuss any ABP/NJSEDCP questions you may have one-on-one: \nAlicia Smith\nRetirement Counselor\nNJ Alternate Benefit Program & State Employees Deferred Compensation Plan\nRetirement Security Education \nPhone: 732-428-2314\nFax: 866-439-8602 \nABP Online Schedule\nNJSEDCP Online Schedule
URL:https://hr.newark.rutgers.edu/event/prudential-abp-njsedcp-advisment/
END:VEVENT
BEGIN:VEVENT
DTSTART;TZID=UTC:20200213T130000
DTEND;TZID=UTC:20200213T134500
DTSTAMP:20260419T134156
CREATED:20200127T204002Z
LAST-MODIFIED:20200127T204002Z
UID:1322-1581598800-1581601500@hr.newark.rutgers.edu
SUMMARY:Faculty and Staff Yoga
DESCRIPTION:Yoga is offered to all Faculty and Staff at Rutgers University-Newark. \nInvite your colleagues to attend and join the sessions every Tuesdays and Thursdays from 1:00 p.m. – 1:45 p.m. \nPaul Robeson Campus Center  \nPRCC Dance Theater\nRoom 351\n350 MLK Jr. Blvd.\nNewark\, NJ 07102 \nYoga mats are available at the session or you are welcome to bring your own.
URL:https://hr.newark.rutgers.edu/event/faculty-and-staff-yoga-10/
ATTACH;FMTTYPE=image/jpeg:https://sites.rutgers.edu/hr-newark/wp-content/uploads/sites/108/2020/01/Yoga-Spring-2020.jpg
END:VEVENT
BEGIN:VEVENT
DTSTART;TZID=UTC:20200218T130000
DTEND;TZID=UTC:20200218T134500
DTSTAMP:20260419T134156
CREATED:20200127T204045Z
LAST-MODIFIED:20200127T204045Z
UID:1324-1582030800-1582033500@hr.newark.rutgers.edu
SUMMARY:Faculty and Staff Yoga
DESCRIPTION:Yoga is offered to all Faculty and Staff at Rutgers University-Newark. \nInvite your colleagues to attend and join the sessions every Tuesdays and Thursdays from 1:00 p.m. – 1:45 p.m. \nPaul Robeson Campus Center  \nPRCC Dance Theater\nRoom 351\n350 MLK Jr. Blvd.\nNewark\, NJ 07102 \nYoga mats are available at the session or you are welcome to bring your own.
URL:https://hr.newark.rutgers.edu/event/faculty-and-staff-yoga-11/
ATTACH;FMTTYPE=image/jpeg:https://sites.rutgers.edu/hr-newark/wp-content/uploads/sites/108/2020/01/Yoga-Spring-2020.jpg
END:VEVENT
BEGIN:VEVENT
DTSTART;TZID=UTC:20200220T130000
DTEND;TZID=UTC:20200220T134500
DTSTAMP:20260419T134156
CREATED:20200127T204155Z
LAST-MODIFIED:20200127T204155Z
UID:1326-1582203600-1582206300@hr.newark.rutgers.edu
SUMMARY:Faculty and Staff Yoga
DESCRIPTION:Yoga is offered to all Faculty and Staff at Rutgers University-Newark. \nInvite your colleagues to attend and join the sessions every Tuesdays and Thursdays from 1:00 p.m. – 1:45 p.m. \nPaul Robeson Campus Center  \nPRCC Dance Theater\nRoom 351\n350 MLK Jr. Blvd.\nNewark\, NJ 07102 \nYoga mats are available at the session or you are welcome to bring your own.
URL:https://hr.newark.rutgers.edu/event/faculty-and-staff-yoga-12/
ATTACH;FMTTYPE=image/jpeg:https://sites.rutgers.edu/hr-newark/wp-content/uploads/sites/108/2020/01/Yoga-Spring-2020.jpg
END:VEVENT
BEGIN:VEVENT
DTSTART;TZID=UTC:20200224T090000
DTEND;TZID=UTC:20200224T160000
DTSTAMP:20260419T134156
CREATED:20191126T193952Z
LAST-MODIFIED:20191126T193952Z
UID:1136-1582534800-1582560000@hr.newark.rutgers.edu
SUMMARY:New Employee Orientation
DESCRIPTION:Welcome to Rutgers University\, The State University of New Jersey \nJoin us for The New Employee Orientation and get to know the people\, places and facts about Rutgers University\, The State University of New Jersey. \nThe agenda will be as follows: \n9:00 am – 9:15 am      Welcome Participants\n9:15 am – 9:40 am      An Overview of Rutgers University\, The State University of New Jersey\n9:45 am – 12:00 pm    Employee Benefit Information Overview\n12:00 pm – 1:30 pm    Lunch Break\n1:40 pm – 2:00 pm      Getting to Know Rutgers University-Newark (RU-N)\n2:00 pm – 2:30 pm      Meet Rutgers University-Newark\n2:30 pm – 3:00 pm      Departmental On-Boarding\n3:00 pm – 3:30 pm      RU-N Campus Tour (weather permitting)\n\nCongratulations and we look forward to meeting you! \nRegister online.
URL:https://hr.newark.rutgers.edu/event/new-employee-orientation-13/
END:VEVENT
BEGIN:VEVENT
DTSTART;TZID=UTC:20200225T130000
DTEND;TZID=UTC:20200225T134500
DTSTAMP:20260419T134156
CREATED:20200127T204240Z
LAST-MODIFIED:20200127T204240Z
UID:1328-1582635600-1582638300@hr.newark.rutgers.edu
SUMMARY:Faculty and Staff Yoga
DESCRIPTION:Yoga is offered to all Faculty and Staff at Rutgers University-Newark. \nInvite your colleagues to attend and join the sessions every Tuesdays and Thursdays from 1:00 p.m. – 1:45 p.m. \nPaul Robeson Campus Center  \nPRCC Dance Theater\nRoom 351\n350 MLK Jr. Blvd.\nNewark\, NJ 07102 \nYoga mats are available at the session or you are welcome to bring your own.
URL:https://hr.newark.rutgers.edu/event/faculty-and-staff-yoga-13/
ATTACH;FMTTYPE=image/jpeg:https://sites.rutgers.edu/hr-newark/wp-content/uploads/sites/108/2020/01/Yoga-Spring-2020.jpg
END:VEVENT
BEGIN:VEVENT
DTSTART;TZID=UTC:20200226T083000
DTEND;TZID=UTC:20200226T120000
DTSTAMP:20260419T134156
CREATED:20200226T153350Z
LAST-MODIFIED:20200226T153350Z
UID:1453-1582705800-1582718400@hr.newark.rutgers.edu
SUMMARY:Voya Financial Advisement
DESCRIPTION:You have a vision for your retirement. But developing financial strategies\, choosing investments and maintaining them throughout retirement are things many people just don’t feel qualified to tackle. Fortunately\, help is at hand. A financial advisor can give you a holistic view of the process\, help you plan and play an active part in your financial strategy. An advisor can give you a better understanding of how everything works — giving you more control over your money. \nCall 877-873-0321 or visit the Voya Financial Website
URL:https://hr.newark.rutgers.edu/event/voya-financial-advisement-8/
END:VEVENT
BEGIN:VEVENT
DTSTART;TZID=UTC:20200227T130000
DTEND;TZID=UTC:20200227T134500
DTSTAMP:20260419T134156
CREATED:20200127T204326Z
LAST-MODIFIED:20200127T204326Z
UID:1330-1582808400-1582811100@hr.newark.rutgers.edu
SUMMARY:Faculty and Staff Yoga
DESCRIPTION:Yoga is offered to all Faculty and Staff at Rutgers University-Newark. \nInvite your colleagues to attend and join the sessions every Tuesdays and Thursdays from 1:00 p.m. – 1:45 p.m. \nPaul Robeson Campus Center  \nPRCC Dance Theater\nRoom 351\n350 MLK Jr. Blvd.\nNewark\, NJ 07102 \nYoga mats are available at the session or you are welcome to bring your own.
URL:https://hr.newark.rutgers.edu/event/faculty-and-staff-yoga-14/
ATTACH;FMTTYPE=image/jpeg:https://sites.rutgers.edu/hr-newark/wp-content/uploads/sites/108/2020/01/Yoga-Spring-2020.jpg
END:VEVENT
BEGIN:VEVENT
DTSTART;TZID=UTC:20200228T123000
DTEND;TZID=UTC:20200228T163000
DTSTAMP:20260419T134156
CREATED:20200207T145848Z
LAST-MODIFIED:20200212T161630Z
UID:1397-1582893000-1582907400@hr.newark.rutgers.edu
SUMMARY:Safe Zone 101
DESCRIPTION:SafeZone is an educational program committed to increasing understanding and awareness around how to foster an inclusive and welcoming climate for the LGBTQ (Lesbian\, Gay\, Bisexual\, Transgender\, Queer and Questioning) community. \nMAJOR TOPICS\nEncourage active allyship.\nIncrease knowledge about to LGBTQ and intersectional history.\nIncrease comfort level with the LGBT community and speaking out against homophobic language\, biased incidents against LTBTQ community.\nBe able to identify and respond to behavior and language that is offensive and exclusionary to the LGBTQ community.\nIncrease overall awareness and understanding of LGBTQ issues to promote greater sense of safety at Rutgers community. \nWHO SHOULD ATTEND\nSafeZone is open for all Faculty/Staff. \nThe first section is an introduction to the LGBTQ community and current events. The second section is focused on becoming an Ally\, supporting our students and how this information is applicable to you\, your department\, organization or day to day life. \nLENGTH 2 hours \nREGISTER
URL:https://hr.newark.rutgers.edu/event/safe-zone-101/
LOCATION:Blumenthal Hall Room 201\, 249 University Avenue\, Newark\, NJ\, 07102-1897\, United States
END:VEVENT
END:VCALENDAR