BEGIN:VCALENDAR
VERSION:2.0
PRODID:-//Newark Human Resources - ECPv6.7.0//NONSGML v1.0//EN
CALSCALE:GREGORIAN
METHOD:PUBLISH
X-ORIGINAL-URL:https://hr.newark.rutgers.edu
X-WR-CALDESC:Events for Newark Human Resources
REFRESH-INTERVAL;VALUE=DURATION:PT1H
X-Robots-Tag:noindex
X-PUBLISHED-TTL:PT1H
BEGIN:VTIMEZONE
TZID:UTC
BEGIN:STANDARD
TZOFFSETFROM:+0000
TZOFFSETTO:+0000
TZNAME:UTC
DTSTART:20200101T000000
END:STANDARD
END:VTIMEZONE
BEGIN:VEVENT
DTSTART;TZID=UTC:20200303T090000
DTEND;TZID=UTC:20200303T150000
DTSTAMP:20260424T053021
CREATED:20191211T150423Z
LAST-MODIFIED:20200224T232550Z
UID:1235-1583226000-1583247600@hr.newark.rutgers.edu
SUMMARY:Prudential ABP & NJSEDCP Advisement
DESCRIPTION:The Alternate Benefit Program (ABP) is a tax-sheltered\, defined contribution retirement program for certain higher education faculty\, instructors and administrators. ABP provides retirement benefits\, life insurance and disability coverage\, which\, when combined with Social Security and other tax-deferred plans\, can provide security in retirement. \nThe New Jersey State Employees Deferred Compensation Plan (NJSEDCP) is a governmental 457(b) defined contribution retirement plan that allows for voluntary tax-sheltered contributions by all state employees\, up to an annual contribution limit set by the Internal Revenue Service that is separate from the university 403(b) plan. \nFor more information\, contact Alicia Smith\, from Prudential Retirement\, to discuss any ABP/NJSEDCP questions you may have one-on-one: \nAlicia Smith\nRetirement Counselor\nNJ Alternate Benefit Program & State Employees Deferred Compensation Plan\nRetirement Security Education \nPhone: 732-428-2314\nFax: 866-439-8602 \nABP Online Schedule\nNJSEDCP Online Schedule
URL:https://hr.newark.rutgers.edu/event/prudential-abp-njsedcp-advisement/
LOCATION:Blumenthal Hall Room 202\, 249 University Ave Blumenthal Hall Room 202\, Newark\, NJ\, 07102\, United States
END:VEVENT
BEGIN:VEVENT
DTSTART;TZID=UTC:20200303T130000
DTEND;TZID=UTC:20200303T134500
DTSTAMP:20260424T053021
CREATED:20200127T204424Z
LAST-MODIFIED:20200127T204424Z
UID:1332-1583240400-1583243100@hr.newark.rutgers.edu
SUMMARY:Faculty and Staff Yoga
DESCRIPTION:Yoga is offered to all Faculty and Staff at Rutgers University-Newark. \nInvite your colleagues to attend and join the sessions every Tuesdays and Thursdays from 1:00 p.m. – 1:45 p.m. \nPaul Robeson Campus Center  \nPRCC Dance Theater\nRoom 351\n350 MLK Jr. Blvd.\nNewark\, NJ 07102 \nYoga mats are available at the session or you are welcome to bring your own.
URL:https://hr.newark.rutgers.edu/event/faculty-and-staff-yoga-15/
ATTACH;FMTTYPE=image/jpeg:https://sites.rutgers.edu/hr-newark/wp-content/uploads/sites/108/2020/01/Yoga-Spring-2020.jpg
END:VEVENT
BEGIN:VEVENT
DTSTART;TZID=UTC:20200304T143000
DTEND;TZID=UTC:20200304T153000
DTSTAMP:20260424T053021
CREATED:20191203T153117Z
LAST-MODIFIED:20191203T153117Z
UID:1181-1583332200-1583335800@hr.newark.rutgers.edu
SUMMARY:Women's History Month
DESCRIPTION:
URL:https://hr.newark.rutgers.edu/event/womens-history-month/
LOCATION:PRCC Essex Rooms\, 350 Martin Luther King Jr. Blvd\, Newark\, NJ\, 07102\, United States
END:VEVENT
BEGIN:VEVENT
DTSTART;TZID=UTC:20200305T130000
DTEND;TZID=UTC:20200305T134500
DTSTAMP:20260424T053021
CREATED:20200127T204535Z
LAST-MODIFIED:20200127T210311Z
UID:1334-1583413200-1583415900@hr.newark.rutgers.edu
SUMMARY:Faculty and Staff Yoga
DESCRIPTION:Yoga is offered to all Faculty and Staff at Rutgers University-Newark. \nInvite your colleagues to attend and join the sessions every Tuesdays and Thursdays from 1:00 p.m. – 1:45 p.m. \nPaul Robeson Campus Center  \nPRCC Dance Theater\nRoom 351\n350 MLK Jr. Blvd.\nNewark\, NJ 07102 \nYoga mats are available at the session or you are welcome to bring your own.
URL:https://hr.newark.rutgers.edu/event/faculty-and-staff-yoga-16/
ATTACH;FMTTYPE=image/jpeg:https://sites.rutgers.edu/hr-newark/wp-content/uploads/sites/108/2020/01/Yoga-Spring-2020.jpg
END:VEVENT
BEGIN:VEVENT
DTSTART;TZID=UTC:20200306T110000
DTEND;TZID=UTC:20200306T140000
DTSTAMP:20260424T053021
CREATED:20200211T165013Z
LAST-MODIFIED:20200305T150821Z
UID:1414-1583492400-1583503200@hr.newark.rutgers.edu
SUMMARY:National Employee Appreciation Day
DESCRIPTION:HR Newark in partnership with RU-N Staff Council and Staff Appreciation Planning Committee invites you to join us for lunch at Stonsby Commons in celebration of this year’s National Employee Appreciation Day to Kick off our Annual Staff Appreciation Programs. \nVision 2020: Reflecting on the Past and Looking Towards  the Future\nActivities include: \n\nButton Making – take a selfie\, bring your image\, or make your design.\nCooking Exhibition – see our Gourmet Dining Chef in action at the exhibition station\nInformation Table – visit with members from RU-N Staff Council and P3 Collaboratory to learn more about events/activities on campus\nGet recipe’s from our in-house dietitian\n\nMeet\, mingle and enjoy lunch with your colleague. First 100 employee to register with a valid RUID get lunch for free. \nWear your Rutgers T-Shirt to get additional raffle tickets for a chance to win prizes during the Annual Staff Appreciation Day! \nSee you there!
URL:https://hr.newark.rutgers.edu/event/national-employee-appreciation-day-2/
LOCATION:Stonsby Commons\, 91 Bleeker St\, Newark\, New Jersey\, 07102
END:VEVENT
BEGIN:VEVENT
DTSTART;TZID=UTC:20200309T090000
DTEND;TZID=UTC:20200309T160000
DTSTAMP:20260424T053021
CREATED:20191126T194206Z
LAST-MODIFIED:20191126T194206Z
UID:1139-1583744400-1583769600@hr.newark.rutgers.edu
SUMMARY:New Employee Orientation
DESCRIPTION:Welcome to Rutgers University\, The State University of New Jersey \nJoin us for The New Employee Orientation and get to know the people\, places and facts about Rutgers University\, The State University of New Jersey. \nThe agenda will be as follows: \n9:00 am – 9:15 am      Welcome Participants\n9:15 am – 9:40 am      An Overview of Rutgers University\, The State University of New Jersey\n9:45 am – 12:00 pm    Employee Benefit Information Overview\n12:00 pm – 1:30 pm    Lunch Break\n1:40 pm – 2:00 pm      Getting to Know Rutgers University-Newark (RU-N)\n2:00 pm – 2:30 pm      Meet Rutgers University-Newark\n2:30 pm – 3:00 pm      Departmental On-Boarding\n3:00 pm – 3:30 pm      RU-N Campus Tour (weather permitting)\n\nCongratulations and we look forward to meeting you! \nRegister online.
URL:https://hr.newark.rutgers.edu/event/new-employee-orientation-14/
END:VEVENT
BEGIN:VEVENT
DTSTART;TZID=UTC:20200310T100000
DTEND;TZID=UTC:20200310T120000
DTSTAMP:20260424T053021
CREATED:20200207T193409Z
LAST-MODIFIED:20200207T193409Z
UID:1391-1583834400-1583841600@hr.newark.rutgers.edu
SUMMARY:ROCS Training
DESCRIPTION:The Recruitment\, Onboarding and Classification System (ROCS) is a one-stop system tool for job-posting and application. \nHR Newark provides Hands-on Training throughout the semester for individuals from department or business unit designated as Authorizer\, Initiator\, or Applicant Reviewer. \nParticipants have the opportunity to work on actual recruitment and hiring cases with the assistance from our system specialist. \nLearn general navigation; get answers to frequently asked questions; stay up to date with current University practice\, policies\, and procedures.
URL:https://hr.newark.rutgers.edu/event/rocs-training-2/
LOCATION:Engelhard Hall\, 190 University Ave\, Newark\, NJ\, 07102\, United States
END:VEVENT
BEGIN:VEVENT
DTSTART;TZID=UTC:20200310T130000
DTEND;TZID=UTC:20200310T134500
DTSTAMP:20260424T053021
CREATED:20200127T204626Z
LAST-MODIFIED:20200127T204626Z
UID:1336-1583845200-1583847900@hr.newark.rutgers.edu
SUMMARY:Faculty and Staff Yoga
DESCRIPTION:Yoga is offered to all Faculty and Staff at Rutgers University-Newark. \nInvite your colleagues to attend and join the sessions every Tuesdays and Thursdays from 1:00 p.m. – 1:45 p.m. \nPaul Robeson Campus Center  \nPRCC Dance Theater\nRoom 351\n350 MLK Jr. Blvd.\nNewark\, NJ 07102 \nYoga mats are available at the session or you are welcome to bring your own.
URL:https://hr.newark.rutgers.edu/event/faculty-and-staff-yoga-17/
ATTACH;FMTTYPE=image/jpeg:https://sites.rutgers.edu/hr-newark/wp-content/uploads/sites/108/2020/01/Yoga-Spring-2020.jpg
END:VEVENT
BEGIN:VEVENT
DTSTART;TZID=UTC:20200311T090000
DTEND;TZID=UTC:20200311T170000
DTSTAMP:20260424T053021
CREATED:20200114T162733Z
LAST-MODIFIED:20200311T163409Z
UID:1301-1583917200-1583946000@hr.newark.rutgers.edu
SUMMARY:TIAA Investment Counseling
DESCRIPTION:CANCELLED UNTIL FURTHER NOTICE! \nRutgers Newark 2020 Event Flyer
URL:https://hr.newark.rutgers.edu/event/tiaa-investment-counseling-8/
LOCATION:Blumenthal Hall Room 202\, 249 University Ave Blumenthal Hall Room 202\, Newark\, NJ\, 07102\, United States
END:VEVENT
BEGIN:VEVENT
DTSTART;TZID=UTC:20200311T140000
DTEND;TZID=UTC:20200311T153000
DTSTAMP:20260424T053021
CREATED:20200211T194057Z
LAST-MODIFIED:20200311T162614Z
UID:1424-1583935200-1583940600@hr.newark.rutgers.edu
SUMMARY:Spring 2020 Financial Wellness Seminar Series
DESCRIPTION:CANCELLED UNTIL FURTHER NOTICE! \nLet us help you make the best financial decision for yourself and/or your family’s  future. Rutgers University-Newark offers financial wellness seminars throughout the semester to provide tools and resources you may need. REGISTER and attend any or all the session based on your availability. \nFinancial Challenges That Matter Most\nWednesday\, March 11\, 2020\nBlumenthal Hall Room 201\nREGISTER \nRetirement Planning Toolkit\nThursday\, March 12\, 2020\nEngelhard Room 303\nREGISTER \nIt’s Your Estate\, Are You in Control?\nWednesday\, April 1\, 2020\nCPS Building (SPAA) Room 105\nREGISTER \nTaking Care of Your Loved Ones as They Age\nWednesday\, April 22\, 2020\nRBS Room 534\nREGISTER
URL:https://hr.newark.rutgers.edu/event/spring-2020-financial-wellness-seminar-series/
END:VEVENT
BEGIN:VEVENT
DTSTART;TZID=UTC:20200312T130000
DTEND;TZID=UTC:20200312T134500
DTSTAMP:20260424T053021
CREATED:20200127T204830Z
LAST-MODIFIED:20200311T162525Z
UID:1338-1584018000-1584020700@hr.newark.rutgers.edu
SUMMARY:Faculty and Staff Yoga
DESCRIPTION:CANCELLED UNTIL FURTHER NOTICE!! \nYoga is offered to all Faculty and Staff at Rutgers University-Newark. \nInvite your colleagues to attend and join the sessions every Tuesdays and Thursdays from 1:00 p.m. – 1:45 p.m. \nPaul Robeson Campus Center  \nPRCC Dance Theater\nRoom 351\n350 MLK Jr. Blvd.\nNewark\, NJ 07102 \nYoga mats are available at the session or you are welcome to bring your own.
URL:https://hr.newark.rutgers.edu/event/faculty-and-staff-yoga-18/
ATTACH;FMTTYPE=image/jpeg:https://sites.rutgers.edu/hr-newark/wp-content/uploads/sites/108/2020/01/Yoga-Spring-2020.jpg
END:VEVENT
BEGIN:VEVENT
DTSTART;TZID=UTC:20200312T140000
DTEND;TZID=UTC:20200312T153000
DTSTAMP:20260424T053021
CREATED:20200211T194137Z
LAST-MODIFIED:20200311T162630Z
UID:1427-1584021600-1584027000@hr.newark.rutgers.edu
SUMMARY:Financial Wellness Seminar Series
DESCRIPTION:CANCELLED UNTIL FURTHER NOTICE! \nLet us help you make the best financial decision for yourself and/or your family’s  future. Rutgers University-Newark offers financial wellness seminars throughout the semester to provide tools and resources you may need. REGISTER and attend any or all the session based on your availability. \nRetirement Planning Toolkit\nThursday\, March 12\, 2020\nEngelhard Room 303\nREGISTER \nIt’s Your Estate\, Are You in Control?\nWednesday\, April 1\, 2020\nCPS Building (SPAA) Room 105\nREGISTER \nTaking Care of Your Loved Ones as They Age\nWednesday\, April 22\, 2020\nRBS Room 534\nREGISTER
URL:https://hr.newark.rutgers.edu/event/financial-wellness-seminar-series/
END:VEVENT
BEGIN:VEVENT
DTSTART;TZID=UTC:20200316T120000
DTEND;TZID=UTC:20200316T133000
DTSTAMP:20260424T053021
CREATED:20200304T180506Z
LAST-MODIFIED:20200313T165959Z
UID:1482-1584360000-1584365400@hr.newark.rutgers.edu
SUMMARY:Good Housekeeping Tax Strategy-Cancelled
DESCRIPTION:WEBINAR ONLY! \nRegister 
URL:https://hr.newark.rutgers.edu/event/good-housekeeping-tax-strategy/
LOCATION:RBS 204\, 15 Washington St.\, Newark\, NJ\, 07102
ATTACH;FMTTYPE=application/pdf:https://sites.rutgers.edu/hr-newark/wp-content/uploads/sites/108/2020/03/Tax-Strategy-Webinar.pdf
END:VEVENT
BEGIN:VEVENT
DTSTART;TZID=UTC:20200317T130000
DTEND;TZID=UTC:20200317T134500
DTSTAMP:20260424T053021
CREATED:20200127T205536Z
LAST-MODIFIED:20200313T170030Z
UID:1340-1584450000-1584452700@hr.newark.rutgers.edu
SUMMARY:Faculty and Staff Yoga-Cancelled
DESCRIPTION:CANCELLED UNTIL FURTHER NOTICE! \nYoga is offered to all Faculty and Staff at Rutgers University-Newark. \nInvite your colleagues to attend and join the sessions every Tuesdays and Thursdays from 1:00 p.m. – 1:45 p.m. \nPaul Robeson Campus Center  \nPRCC Dance Theater\nRoom 351\n350 MLK Jr. Blvd.\nNewark\, NJ 07102 \nYoga mats are available at the session or you are welcome to bring your own.
URL:https://hr.newark.rutgers.edu/event/faculty-and-staff-yoga-19/
ATTACH;FMTTYPE=image/jpeg:https://sites.rutgers.edu/hr-newark/wp-content/uploads/sites/108/2020/01/Yoga-Spring-2020.jpg
END:VEVENT
BEGIN:VEVENT
DTSTART;TZID=UTC:20200319T130000
DTEND;TZID=UTC:20200319T134500
DTSTAMP:20260424T053021
CREATED:20200127T205714Z
LAST-MODIFIED:20200311T162827Z
UID:1344-1584622800-1584625500@hr.newark.rutgers.edu
SUMMARY:Faculty and Staff Yoga
DESCRIPTION:CANCELLED UNTIL FURTHER NOTICE! \nYoga is offered to all Faculty and Staff at Rutgers University-Newark. \nInvite your colleagues to attend and join the sessions every Tuesdays and Thursdays from 1:00 p.m. – 1:45 p.m. \nPaul Robeson Campus Center  \nPRCC Dance Theater\nRoom 351\n350 MLK Jr. Blvd.\nNewark\, NJ 07102 \nYoga mats are available at the session or you are welcome to bring your own.
URL:https://hr.newark.rutgers.edu/event/faculty-and-staff-yoga-21/
ATTACH;FMTTYPE=image/jpeg:https://sites.rutgers.edu/hr-newark/wp-content/uploads/sites/108/2020/01/Yoga-Spring-2020.jpg
END:VEVENT
BEGIN:VEVENT
DTSTART;TZID=UTC:20200323T090000
DTEND;TZID=UTC:20200323T160000
DTSTAMP:20260424T053021
CREATED:20191126T194825Z
LAST-MODIFIED:20200311T163057Z
UID:1141-1584954000-1584979200@hr.newark.rutgers.edu
SUMMARY:New Employee Orientation
DESCRIPTION:POSTPONED UNTIL FURTHER NOTICE!   \nWelcome to Rutgers University\, The State University of New Jersey \nJoin us for The New Employee Orientation and get to know the people\, places and facts about Rutgers University\, The State University of New Jersey. \nThe agenda will be as follows: \n9:00 am – 9:15 am      Welcome Participants\n9:15 am – 9:40 am      An Overview of Rutgers University\, The State University of New Jersey\n9:45 am – 12:00 pm    Employee Benefit Information Overview\n12:00 pm – 1:30 pm    Lunch Break\n1:40 pm – 2:00 pm      Getting to Know Rutgers University-Newark (RU-N)\n2:00 pm – 2:30 pm      Meet Rutgers University-Newark\n2:30 pm – 3:00 pm      Departmental On-Boarding\n3:00 pm – 3:30 pm      RU-N Campus Tour (weather permitting)\n\nCongratulations and we look forward to meeting you! \nRegister online.
URL:https://hr.newark.rutgers.edu/event/new-employee-orientation-15/
END:VEVENT
BEGIN:VEVENT
DTSTART;TZID=UTC:20200324T120000
DTEND;TZID=UTC:20200324T130000
DTSTAMP:20260424T053021
CREATED:20200304T181131Z
LAST-MODIFIED:20200311T163243Z
UID:1487-1585051200-1585054800@hr.newark.rutgers.edu
SUMMARY:RU-N Book Club
DESCRIPTION:CANCELLED UNTIL FURTHER NOTICE! \nRegister 
URL:https://hr.newark.rutgers.edu/event/ru-n-book-club/
LOCATION:Dana Room 4th Floor
ATTACH;FMTTYPE=application/pdf:https://sites.rutgers.edu/hr-newark/wp-content/uploads/sites/108/2020/03/RU-N-Book-Club.pdf
END:VEVENT
BEGIN:VEVENT
DTSTART;TZID=UTC:20200324T130000
DTEND;TZID=UTC:20200324T134500
DTSTAMP:20260424T053021
CREATED:20200127T205621Z
LAST-MODIFIED:20200311T163145Z
UID:1342-1585054800-1585057500@hr.newark.rutgers.edu
SUMMARY:Faculty and Staff Yoga
DESCRIPTION:CANCELLED UNTIL FURTHER NOTICE! \nYoga is offered to all Faculty and Staff at Rutgers University-Newark. \nInvite your colleagues to attend and join the sessions every Tuesdays and Thursdays from 1:00 p.m. – 1:45 p.m. \nPaul Robeson Campus Center  \nPRCC Dance Theater\nRoom 351\n350 MLK Jr. Blvd.\nNewark\, NJ 07102 \nYoga mats are available at the session or you are welcome to bring your own.
URL:https://hr.newark.rutgers.edu/event/faculty-and-staff-yoga-20/
ATTACH;FMTTYPE=image/jpeg:https://sites.rutgers.edu/hr-newark/wp-content/uploads/sites/108/2020/01/Yoga-Spring-2020.jpg
END:VEVENT
BEGIN:VEVENT
DTSTART;TZID=UTC:20200325T100000
DTEND;TZID=UTC:20200325T140000
DTSTAMP:20260424T053021
CREATED:20200226T153458Z
LAST-MODIFIED:20200311T163606Z
UID:1455-1585130400-1585144800@hr.newark.rutgers.edu
SUMMARY:Voya Financial Advisement
DESCRIPTION:CANCELLED UNTIL FURTHER NOTICE! \nYou have a vision for your retirement. But developing financial strategies\, choosing investments and maintaining them throughout retirement are things many people just don’t feel qualified to tackle. Fortunately\, help is at hand. A financial advisor can give you a holistic view of the process\, help you plan and play an active part in your financial strategy. An advisor can give you a better understanding of how everything works — giving you more control over your money. \nCall 877-873-0321 or visit the Voya Financial Website
URL:https://hr.newark.rutgers.edu/event/1455/
END:VEVENT
BEGIN:VEVENT
DTSTART;TZID=UTC:20200326T090000
DTEND;TZID=UTC:20200326T170000
DTSTAMP:20260424T053021
CREATED:20200114T162837Z
LAST-MODIFIED:20200316T182936Z
UID:1303-1585213200-1585242000@hr.newark.rutgers.edu
SUMMARY:TIAA Investment Counseling
DESCRIPTION:PHONE CONSULTATION ONLY  \nTIAA is taking steps to ensure your safety and the safety of our associates. All in-person consultation appointments scheduled at Blumenthal Hall Room 202 for the month of March and April will  take place via phone until further notice.  \nYour Financial Consultant will call you at your originally scheduled date and time on the phone number on file for TIAA.  \nIf you have any questions or need additional assistance\, please call  800.732.8353\, weekdays from 8 a.m. – 8 p.m. (ET).   
URL:https://hr.newark.rutgers.edu/event/tiaa-investment-counseling-9/
LOCATION:Blumenthal Hall Room 202\, 249 University Ave Blumenthal Hall Room 202\, Newark\, NJ\, 07102\, United States
END:VEVENT
BEGIN:VEVENT
DTSTART;TZID=UTC:20200326T130000
DTEND;TZID=UTC:20200326T134500
DTSTAMP:20260424T053021
CREATED:20200127T205803Z
LAST-MODIFIED:20200311T163310Z
UID:1346-1585227600-1585230300@hr.newark.rutgers.edu
SUMMARY:Faculty and Staff Yoga
DESCRIPTION:CANCELLED UNTIL FURTHER NOTICE! \nYoga is offered to all Faculty and Staff at Rutgers University-Newark. \nInvite your colleagues to attend and join the sessions every Tuesdays and Thursdays from 1:00 p.m. – 1:45 p.m. \nPaul Robeson Campus Center  \nPRCC Dance Theater\nRoom 351\n350 MLK Jr. Blvd.\nNewark\, NJ 07102 \nYoga mats are available at the session or you are welcome to bring your own.
URL:https://hr.newark.rutgers.edu/event/faculty-and-staff-yoga-22/
ATTACH;FMTTYPE=image/jpeg:https://sites.rutgers.edu/hr-newark/wp-content/uploads/sites/108/2020/01/Yoga-Spring-2020.jpg
END:VEVENT
BEGIN:VEVENT
DTSTART;TZID=UTC:20200326T130000
DTEND;TZID=UTC:20200326T134500
DTSTAMP:20260424T053021
CREATED:20200127T205839Z
LAST-MODIFIED:20200127T205839Z
UID:1348-1585227600-1585230300@hr.newark.rutgers.edu
SUMMARY:
DESCRIPTION:Yoga is offered to all Faculty and Staff at Rutgers University-Newark. \nInvite your colleagues to attend and join the sessions every Tuesdays and Thursdays from 1:00 p.m. – 1:45 p.m. \nPaul Robeson Campus Center  \nPRCC Dance Theater\nRoom 351\n350 MLK Jr. Blvd.\nNewark\, NJ 07102 \nYoga mats are available at the session or you are welcome to bring your own.
URL:https://hr.newark.rutgers.edu/event/1348/
ATTACH;FMTTYPE=image/jpeg:https://sites.rutgers.edu/hr-newark/wp-content/uploads/sites/108/2020/01/Yoga-Spring-2020.jpg
END:VEVENT
BEGIN:VEVENT
DTSTART;TZID=UTC:20200327T090000
DTEND;TZID=UTC:20200327T120000
DTSTAMP:20260424T053021
CREATED:20200224T214825Z
LAST-MODIFIED:20200311T195445Z
UID:1449-1585299600-1585310400@hr.newark.rutgers.edu
SUMMARY:HCM Template Based Hire and Re-Appointment Training
DESCRIPTION:CANCELLED UNTIL FURTHER NOTICE! \nUnderstand the background and requirements relating to entering RIAS HCM Template-Based Hire and Reappointment requests.\nIn addition\, to grasp the workflow that moves both the Template-Based Hire and Reappointment request through the system to completion\nThe session is to all HCM Preparers who utilize the RIAS HCM application to submit transactions to UHR for processing as well as to HCM Approvers who want to understand the work of their Preparer \n  \nREGISTER
URL:https://hr.newark.rutgers.edu/event/hcm-template-based-hire-and-re-appointment-training/
END:VEVENT
BEGIN:VEVENT
DTSTART;TZID=UTC:20200330T100000
DTEND;TZID=UTC:20200330T120000
DTSTAMP:20260424T053021
CREATED:20200207T150109Z
LAST-MODIFIED:20200311T163119Z
UID:1401-1585562400-1585569600@hr.newark.rutgers.edu
SUMMARY:Safe Zone 102
DESCRIPTION:CANCELLED UNTIL FURTHER NOTICE! \nSafeZone is an educational program committed to increasing understanding and awareness around how to foster an inclusive and welcoming climate for the LGBTQ (Lesbian\, Gay\, Bisexual\, Transgender\, Queer and Questioning) community. \nMAJOR TOPICS\nEncourage active allyship.\nIncrease knowledge about to LGBTQ and intersectional history.\nIncrease comfort level with the LGBT community and speaking out against homophobic language\, biased incidents against LTBTQ community.\nBe able to identify and respond to behavior and language that is offensive and exclusionary to the LGBTQ community.\nIncrease overall awareness and understanding of LGBTQ issues to promote greater sense of safety at Rutgers community. \nWHO SHOULD ATTEND\nSafeZone is open for all Faculty/Staff. \nThe first section is an introduction to the LGBTQ community and current events. The second section is focused on becoming an Ally\, supporting our students and how this information is applicable to you\, your department\, organization or day to day life. \nLENGTH 2 hours \nREGISTER
URL:https://hr.newark.rutgers.edu/event/safe-zone-102-2/
LOCATION:Blumenthal Hall Room 201\, 249 University Avenue\, Newark\, NJ\, 07102-1897\, United States
END:VEVENT
BEGIN:VEVENT
DTSTART;TZID=UTC:20200331T130000
DTEND;TZID=UTC:20200331T134500
DTSTAMP:20260424T053021
CREATED:20200127T205933Z
LAST-MODIFIED:20200311T163207Z
UID:1350-1585659600-1585662300@hr.newark.rutgers.edu
SUMMARY:Faculty and Staff Yoga
DESCRIPTION:CANCELLED UNTIL FURTHER NOTICE! \nYoga is offered to all Faculty and Staff at Rutgers University-Newark. \nInvite your colleagues to attend and join the sessions every Tuesdays and Thursdays from 1:00 p.m. – 1:45 p.m. \nPaul Robeson Campus Center  \nPRCC Dance Theater\nRoom 351\n350 MLK Jr. Blvd.\nNewark\, NJ 07102 \nYoga mats are available at the session or you are welcome to bring your own.
URL:https://hr.newark.rutgers.edu/event/faculty-and-staff-yoga-23/
ATTACH;FMTTYPE=image/jpeg:https://sites.rutgers.edu/hr-newark/wp-content/uploads/sites/108/2020/01/Yoga-Spring-2020.jpg
END:VEVENT
END:VCALENDAR