BEGIN:VCALENDAR
VERSION:2.0
PRODID:-//Newark Human Resources - ECPv6.7.0//NONSGML v1.0//EN
CALSCALE:GREGORIAN
METHOD:PUBLISH
X-WR-CALNAME:Newark Human Resources
X-ORIGINAL-URL:https://hr.newark.rutgers.edu
X-WR-CALDESC:Events for Newark Human Resources
REFRESH-INTERVAL;VALUE=DURATION:PT1H
X-Robots-Tag:noindex
X-PUBLISHED-TTL:PT1H
BEGIN:VTIMEZONE
TZID:UTC
BEGIN:STANDARD
TZOFFSETFROM:+0000
TZOFFSETTO:+0000
TZNAME:UTC
DTSTART:20260101T000000
END:STANDARD
END:VTIMEZONE
BEGIN:VEVENT
DTSTART;TZID=UTC:20260209T090000
DTEND;TZID=UTC:20260209T150000
DTSTAMP:20260418T135517
CREATED:20251118T164017Z
LAST-MODIFIED:20251118T164017Z
UID:3390-1770627600-1770649200@hr.newark.rutgers.edu
SUMMARY:New Employee Orientation
DESCRIPTION:Welcome to Rutgers University-Newark! \nAttend the New Employee Orientation (NEO) and learn more about Rutgers University\, The State University of New Jersey\, its history\, mission\, and vision. \nGet information about the comprehensive NJ State Health Benefits Programs (SHBP) available for eligible employees and the various benefit programs offered by the university. \nYou will also have opportunities to meet colleagues representing the different units on campus and Discover RU-N at the scheduled Walking Tour of the campus! \nCLICK TO REGISTER \nWe look forward to meeting you!
URL:https://hr.newark.rutgers.edu/event/new-employee-orientation-88/
LOCATION:SPAA Room 203\, 111 Washington St.\, Newark\, NJ\, 07102
END:VEVENT
BEGIN:VEVENT
DTSTART;TZID=UTC:20260223T090000
DTEND;TZID=UTC:20260223T150000
DTSTAMP:20260418T135518
CREATED:20251118T164135Z
LAST-MODIFIED:20251118T164135Z
UID:3392-1771837200-1771858800@hr.newark.rutgers.edu
SUMMARY:New Employee Orientation
DESCRIPTION:Welcome to Rutgers University-Newark! \nAttend the New Employee Orientation (NEO) and learn more about Rutgers University\, The State University of New Jersey\, its history\, mission\, and vision. \nGet information about the comprehensive NJ State Health Benefits Programs (SHBP) available for eligible employees and the various benefit programs offered by the university. \nYou will also have opportunities to meet colleagues representing the different units on campus and Discover RU-N at the scheduled Walking Tour of the campus! \nCLICK TO REGISTER \nWe look forward to meeting you!
URL:https://hr.newark.rutgers.edu/event/new-employee-orientation-89/
LOCATION:SPAA Room 203\, 111 Washington St.\, Newark\, NJ\, 07102
END:VEVENT
BEGIN:VEVENT
DTSTART;TZID=UTC:20260225T100000
DTEND;TZID=UTC:20260225T120000
DTSTAMP:20260418T135518
CREATED:20251216T212035Z
LAST-MODIFIED:20251216T212035Z
UID:3439-1772013600-1772020800@hr.newark.rutgers.edu
SUMMARY:True Colors
DESCRIPTION:True Colors differentiate the four central primary personality types: ORANGE\, GOLD\, GREEN\, and BLUE. \nThese colors represent behavioral characteristics and preferences associated with their differing strengths\, stresses\, values\, and joys. Understanding the spectrum of colors from brightest to the least\, and recognizing individual differences\, is an effective tool for relationship-building and promotes mindful interactions that are applicable in the workplace and personal interactions. \nValuing Differences and Creating Unity. \nAvailable to all RU-N employees. \nCLICK TO REGISTER \n 
URL:https://hr.newark.rutgers.edu/event/true-colors-2/
LOCATION:45 Bleeker St. Newark\, NJ 07102\, 45 Bleeker St\, Newark\, NJ\, 07102\, United States
END:VEVENT
END:VCALENDAR